BEGIN:VCALENDAR
VERSION:2.0
PRODID:-//KI Science Park - ECPv6.15.0.1//NONSGML v1.0//EN
CALSCALE:GREGORIAN
METHOD:PUBLISH
X-WR-CALNAME:KI Science Park
X-ORIGINAL-URL:https://kisciencepark.kisciencepark.hemsida.eu
X-WR-CALDESC:Events for KI Science Park
REFRESH-INTERVAL;VALUE=DURATION:PT1H
X-Robots-Tag:noindex
X-PUBLISHED-TTL:PT1H
BEGIN:VTIMEZONE
TZID:Europe/Stockholm
BEGIN:DAYLIGHT
TZOFFSETFROM:+0100
TZOFFSETTO:+0200
TZNAME:CEST
DTSTART:20240331T010000
END:DAYLIGHT
BEGIN:STANDARD
TZOFFSETFROM:+0200
TZOFFSETTO:+0100
TZNAME:CET
DTSTART:20241027T010000
END:STANDARD
END:VTIMEZONE
BEGIN:VEVENT
DTSTART;TZID=Europe/Stockholm:20240627T113000
DTEND;TZID=Europe/Stockholm:20240627T121500
DTSTAMP:20260421T030043
CREATED:20240604T113248Z
LAST-MODIFIED:20240604T113313Z
UID:10000085-1719487800-1719490500@kisciencepark.kisciencepark.hemsida.eu
SUMMARY:AWL Running Club
DESCRIPTION:
URL:https://kisciencepark.kisciencepark.hemsida.eu/event/awl-running-club-27jun/
LOCATION:Nanna Svartz Väg 4\, Campus Solna
ATTACH;FMTTYPE=application/pdf:https://kisciencepark.kisciencepark.hemsida.eu/wp-content/uploads/2024/06/awlrunningclubliggande.pdf
END:VEVENT
BEGIN:VEVENT
DTSTART;TZID=Europe/Stockholm:20240620T113000
DTEND;TZID=Europe/Stockholm:20240620T121500
DTSTAMP:20260421T030043
CREATED:20240604T113207Z
LAST-MODIFIED:20240604T113233Z
UID:10000084-1718883000-1718885700@kisciencepark.kisciencepark.hemsida.eu
SUMMARY:AWL Running Club
DESCRIPTION:
URL:https://kisciencepark.kisciencepark.hemsida.eu/event/awl-running-club-20jun/
LOCATION:Nanna Svartz Väg 4\, Campus Solna
ATTACH;FMTTYPE=application/pdf:https://kisciencepark.kisciencepark.hemsida.eu/wp-content/uploads/2024/06/awlrunningclubliggande.pdf
END:VEVENT
BEGIN:VEVENT
DTSTART;TZID=Europe/Stockholm:20240613T113000
DTEND;TZID=Europe/Stockholm:20240613T121500
DTSTAMP:20260421T030043
CREATED:20240604T113123Z
LAST-MODIFIED:20240604T113123Z
UID:10000083-1718278200-1718280900@kisciencepark.kisciencepark.hemsida.eu
SUMMARY:AWL Running Club
DESCRIPTION:
URL:https://kisciencepark.kisciencepark.hemsida.eu/event/awl-running-club-9/
LOCATION:Nanna Svartz Väg 4\, Campus Solna
ATTACH;FMTTYPE=application/pdf:https://kisciencepark.kisciencepark.hemsida.eu/wp-content/uploads/2024/06/awlrunningclubliggande.pdf
END:VEVENT
END:VCALENDAR