BEGIN:VCALENDAR
VERSION:2.0
PRODID:-//KI Science Park - ECPv6.15.0.1//NONSGML v1.0//EN
CALSCALE:GREGORIAN
METHOD:PUBLISH
X-ORIGINAL-URL:https://kisciencepark.kisciencepark.hemsida.eu
X-WR-CALDESC:Events for KI Science Park
REFRESH-INTERVAL;VALUE=DURATION:PT1H
X-Robots-Tag:noindex
X-PUBLISHED-TTL:PT1H
BEGIN:VTIMEZONE
TZID:Europe/Stockholm
BEGIN:DAYLIGHT
TZOFFSETFROM:+0100
TZOFFSETTO:+0200
TZNAME:CEST
DTSTART:20240331T010000
END:DAYLIGHT
BEGIN:STANDARD
TZOFFSETFROM:+0200
TZOFFSETTO:+0100
TZNAME:CET
DTSTART:20241027T010000
END:STANDARD
END:VTIMEZONE
BEGIN:VEVENT
DTSTART;TZID=Europe/Stockholm:20240918T080000
DTEND;TZID=Europe/Stockholm:20240919T170000
DTSTAMP:20260421T045056
CREATED:20240327T191354Z
LAST-MODIFIED:20240327T193505Z
UID:10000070-1726646400-1726765200@kisciencepark.kisciencepark.hemsida.eu
SUMMARY:NLSDays 2024 - where Nordic life science meets the world
DESCRIPTION:KI Science Park members benefit from a 15% discount on all registration categories and periods. Contact event@kisciencepark.se to receive the promotion code. \nNordic Life Science Days is the largest life science partnering event in the Nordics.\nNLSDays gathers big pharma executives\, investors and CEOs of biotech\, pharma and medtech companies and discusses the road ahead for the life science industry. \nRegister here! \nReminder: Early Bird Registration (until 31 March 2024)\, Regular Registration (from 1st April 2024 until 30 June 2024) and Late Registration (from 1st July 2024 until the event). \n  \n2023 numbers\n\nAttracted 1640+ delegates representing 900+ companies and organizations from 30 countries.\nGathered 150+ investors.\nFacilitated more than 3\,400 face-to-face meetings held during the 2-day conference\, which were booked through the One-on-One Partnering platform.\nOffered our largest-ever developed exhibition\, with 150+ showcasing companies\, organizations\, and countries.\nEnjoyed the support of more than 140 sponsors and partners.\n\nNordic Star Pitch Competition \nTo make room for up-and-coming actors\, we’re opening the floor for high-potential ideas that may become the next big thing. \nSmall and medium-sized life science companies in the Nordics are invited to apply for the Nordic Star Pitch Competition\, where they will have the opportunity to pitch to an audience of investors and big pharma scouts. \n20 selected Nordic SMEs get to pitch their novel inventions during NLSDays 2024\, get free access to the One-on-One Partnering system – and compete for attractive prize packages. \nDifferent prizes will be awarded on stage during the closing ceremony. \nApplication period: Apply here: nlsdays.com/presenters-and-exhibitors/startups/
URL:https://kisciencepark.kisciencepark.hemsida.eu/event/nlsdays-2024-where-nordic-life-science-meets-the-world/
LOCATION:Malmömässan\, Måsgatan 6\, Malmö\, 215 32
ATTACH;FMTTYPE=image/png:https://kisciencepark.kisciencepark.hemsida.eu/wp-content/uploads/2024/03/nlsd24-design-11200x627px.png
END:VEVENT
END:VCALENDAR