BEGIN:VCALENDAR
VERSION:2.0
PRODID:-//KI Science Park - ECPv6.15.0.1//NONSGML v1.0//EN
CALSCALE:GREGORIAN
METHOD:PUBLISH
X-WR-CALNAME:KI Science Park
X-ORIGINAL-URL:https://kisciencepark.kisciencepark.hemsida.eu
X-WR-CALDESC:Events for KI Science Park
REFRESH-INTERVAL;VALUE=DURATION:PT1H
X-Robots-Tag:noindex
X-PUBLISHED-TTL:PT1H
BEGIN:VTIMEZONE
TZID:Europe/Stockholm
BEGIN:DAYLIGHT
TZOFFSETFROM:+0100
TZOFFSETTO:+0200
TZNAME:CEST
DTSTART:20240331T010000
END:DAYLIGHT
BEGIN:STANDARD
TZOFFSETFROM:+0200
TZOFFSETTO:+0100
TZNAME:CET
DTSTART:20241027T010000
END:STANDARD
BEGIN:DAYLIGHT
TZOFFSETFROM:+0100
TZOFFSETTO:+0200
TZNAME:CEST
DTSTART:20250330T010000
END:DAYLIGHT
BEGIN:STANDARD
TZOFFSETFROM:+0200
TZOFFSETTO:+0100
TZNAME:CET
DTSTART:20251026T010000
END:STANDARD
END:VTIMEZONE
BEGIN:VEVENT
DTSTART;TZID=Europe/Stockholm:20250617T160000
DTEND;TZID=Europe/Stockholm:20250617T190000
DTSTAMP:20260421T002930
CREATED:20250428T211845Z
LAST-MODIFIED:20250428T213213Z
UID:10000144-1750176000-1750186800@kisciencepark.kisciencepark.hemsida.eu
SUMMARY:KI Science Park Summer BBQ 2025
DESCRIPTION:Join us for a Summer BBQ in Nanna’s Blossoming Garden on Campus Solna!\nKI Science Park\, together with KI Innovations\, A Working Lab\, and Akademiska Hus\, warmly invites you to a festive Summer BBQ. \nEnjoy a delicious BBQ on the terrace of A Working Lab\, along with a refreshing selection of beverages to keep you cool. And don’t forget to save room for ice cream! We’ll also have games and fun activities to keep the summer spirit alive. \nThe networking area is beautifully set beneath the trees surrounding Nanna’s medicinal garden – in full summer bloom! Put on your favourite summer outfit\, bring your best mood\, and come celebrate with us! \nThis event is our way of saying thank you for being part of our vibrant life science community. It’s through our meetings and our conversations this community comes to life. Together\, we make this a place full of ideas\, energy\, and opportunities! \nWe can’t wait to see you there! Let’s catch up\, meet new people\, and enjoy a great summer evening together! \nAn invitation is sent out to our members. If you did not get it\, contact: event@kisciencepark.se \n  \nThis event is made possible through the generous support of our sponsors. \n \n \n\n\nThis event is organized by:\n         \n   
URL:https://kisciencepark.kisciencepark.hemsida.eu/event/ki-science-park-summer-bbq-2025/
LOCATION:Innomedicum\, Nanna Svartz väg 2\, Solna\, 17165\, Sweden
ATTACH;FMTTYPE=image/jpeg:https://kisciencepark.kisciencepark.hemsida.eu/wp-content/uploads/2025/04/save-the-date-summer-bbq-2025.jpg
ORGANIZER;CN="KI Science Park":MAILTO:event@kisciencepark.se
END:VEVENT
BEGIN:VEVENT
DTSTART;TZID=Europe/Stockholm:20241203T150000
DTEND;TZID=Europe/Stockholm:20241203T170000
DTSTAMP:20260421T002930
CREATED:20241127T122305Z
LAST-MODIFIED:20241127T122830Z
UID:10000118-1733238000-1733245200@kisciencepark.kisciencepark.hemsida.eu
SUMMARY:Hur arbetar AstraZeneca\, Elekta\, SmartCella och Waters tillsammans med andra aktörer inom precisionsmedicin
DESCRIPTION:Närverksträff | Varmt välkommen till det fjärde mötet med nätverket för företag inom precisionsmedicin!  \nHur arbetar AstraZeneca\, Elekta\, SmartCella och Waters tillsammans med andra aktörer inom precisionsmedicin?  \nMissa inte chansen att diskutera samarbeten lära dig mer om hur stora företag inom läkemedel\, medicinteknik och forskningsverktyg ser på utvecklingen inom precisionsmedicin och vilka samarbeten som är viktiga för dem. Vi kommer att belysa samarbeten mellan små och stora företag\, men även mellan företag\, akademi och hälso- och sjukvård. Vilka är nyckelfaktorerna för lyckade samarbeten? Hur säkerställer man att samarbetet ger nytta för alla inblandade? Vad letar större företag efter inom precisionsmedicinfältet? \nProgram \n14:45 Kaffe och registrering startar \n 15:00 Välkomna! \n\nFyra korta presentationer\n\n\n\n\nAnna Sandström\, Senior Director Science Policy and Relations Europe at AstraZeneca\nJonas Rehn\, Director Corporate Research at Elekta\nJohan Rugfelt\, Chief Operating Officer at Smartcella\nPer Ragneborn\, Nordic Sales Manager at Waters  \n\n\nSamtal och frågor \n\n16:45 Sammanfattning och nästa steg \nBerätta om du vill ha några minuter i programmet för att presentera dina erfarenheter av samarbeten. Meddela även gärna om du har en kollega som du tycker bör delta.      \nAnmälan görs till Andreas Namslauer:  andreas.namslauer@ssci.se \nVi välkomnar nya företag till nätverket. Berätta hur er verksamhet  koppler till precisionsmedicinområdet så lägger vi till företaget på sändlistan. För frågor om nätverket och deltagande kontakta sara.gunneras@kisciencepark.se \nVarmt välkomna! \n_____________________________________ \nKort bakgrund om nätverket \nSyftet med nätverket är att få ett ökat kunskaps- och erfarenhetsutbyte mellan olika aktörer inom precisionsmedicin i regionen. Nätverket drivs av Stockholm Science City tillsammans med KI Innovations\, KI Science Park\, Flemingsberg Science och STUNS Life Science. \nDå precisionsmedicin är ett multidisciplinärt område under snabb utveckling eftersträvar vi att skapa ett forum för en konstruktiv\, öppen och hjälpsam dialog. Här kan alla dela med sig av erfarenheter och kunskaper och tillsammans försöka hitta smidiga vägar framåt.
URL:https://kisciencepark.kisciencepark.hemsida.eu/event/natverkstraff-nr-4-pm/
LOCATION:Innomedicum\, Nanna Svartz väg 2\, Solna\, 17165\, Sweden
ATTACH;FMTTYPE=image/jpeg:https://kisciencepark.kisciencepark.hemsida.eu/wp-content/uploads/2024/11/240904-pm-event-flyer.jpg
END:VEVENT
BEGIN:VEVENT
DTSTART;TZID=Europe/Stockholm:20240918T170000
DTEND;TZID=Europe/Stockholm:20240918T210000
DTSTAMP:20260421T002930
CREATED:20240910T195733Z
LAST-MODIFIED:20240910T195908Z
UID:10000101-1726678800-1726693200@kisciencepark.kisciencepark.hemsida.eu
SUMMARY:NFKK After Conference Mingle with Waters Sverige AB & Capitainer AB
DESCRIPTION:Event by member company: \nNFKK (Nordisk Förening Klinisk Kemi) After Conference Mingle with Waters Sverige AB & Capitainer AB\nWelcome to Waters Sverige AB facility for an After Conference* Mingle with drinks and lighter food. \nTake the opportunity to: \n\n\n\n➤ Network with colleagues interested in LC/MS clinical diagnostics and accurate home-sampling. \n➤ Learn how LC/MS is utilized today in the clinic and its potential for future diagnostics and precision medicine. \n➤ Learn how patients and the clinic can benefit from accurate remote- sampling. \n➤ Take a guided tour in Campus Solna Open Access LC/MS Lab and learn how you can benefit from it. \n\n\n\n\n\n\n\n\n\n\n\n*) The Nordic Congress in Clinical Chemistry at Aula Medica\, 17-20 September \n\n\n\nEnter Innomedicum main entrance and follow “After Conference Mingle” Signs to the end of the corridor. \nPlease contact Peter Teiwik if you plan to attend or need additional info. o Peter_teiwik@waters.com\no Tel:0046-708101395
URL:https://kisciencepark.kisciencepark.hemsida.eu/event/nfkk-after-conference-mingle-with-waters-sverige-ab-capitainer-ab/
LOCATION:Innomedicum\, Nanna Svartz väg 2\, Solna\, 17165\, Sweden
ATTACH;FMTTYPE=image/jpeg:https://kisciencepark.kisciencepark.hemsida.eu/wp-content/uploads/2024/09/waters-event.jpg
END:VEVENT
END:VCALENDAR