BEGIN:VCALENDAR
VERSION:2.0
PRODID:-//KI Science Park - ECPv6.15.0.1//NONSGML v1.0//EN
CALSCALE:GREGORIAN
METHOD:PUBLISH
X-ORIGINAL-URL:https://kisciencepark.kisciencepark.hemsida.eu
X-WR-CALDESC:Events for KI Science Park
REFRESH-INTERVAL;VALUE=DURATION:PT1H
X-Robots-Tag:noindex
X-PUBLISHED-TTL:PT1H
BEGIN:VTIMEZONE
TZID:Europe/Stockholm
BEGIN:DAYLIGHT
TZOFFSETFROM:+0100
TZOFFSETTO:+0200
TZNAME:CEST
DTSTART:20260329T010000
END:DAYLIGHT
BEGIN:STANDARD
TZOFFSETFROM:+0200
TZOFFSETTO:+0100
TZNAME:CET
DTSTART:20261025T010000
END:STANDARD
END:VTIMEZONE
BEGIN:VEVENT
DTSTART;TZID=Europe/Stockholm:20260428T120000
DTEND;TZID=Europe/Stockholm:20260428T125500
DTSTAMP:20260420T164442
CREATED:20260109T080212Z
LAST-MODIFIED:20260109T080212Z
UID:10000208-1777377600-1777380900@kisciencepark.kisciencepark.hemsida.eu
SUMMARY:KI Science Park’s monthly CEO and Business Leader Lunch
DESCRIPTION:Welcome to KI Science Park’s CEO and Business Leader Lunch!\nJoin us for this networking opportunity that combines lunch with influential minds!   \nAs always\, we focus open discussions round the tables. A light lunch will be served. \nThe CEO and Business Leader Lunch is exclusively for CEOs and Business Leaders of our community. The purpose of the network is to provide a platform for insightful discussions\, idea exchange\, and potential collaborations. It fosters connections and strengthens the network among KI Science Park members. Here we also welcome new companies that joined our community. \nAn invitation is sent to members. \nWe look forward to seeing you there! \n__________________________________________________ \nContact Sara Gunnerås if you would like to know more about the network and how to join.
URL:https://kisciencepark.kisciencepark.hemsida.eu/event/ki-science-parks-monthly-ceo-and-business-leader-lunch-may26/
LOCATION:Innomedicum\, KI Science Park AB office\, Nanna Svarts Väg 6a\, floor 4\, Solna\, 171 65\, Sweden
ATTACH;FMTTYPE=image/jpeg:https://kisciencepark.kisciencepark.hemsida.eu/wp-content/uploads/2023/05/VD-lunch-230526.jpg
ORGANIZER;CN="KI Science Park":MAILTO:event@kisciencepark.se
END:VEVENT
BEGIN:VEVENT
DTSTART;TZID=Europe/Stockholm:20260528T120000
DTEND;TZID=Europe/Stockholm:20260528T125500
DTSTAMP:20260420T164442
CREATED:20260109T080323Z
LAST-MODIFIED:20260109T080353Z
UID:10000209-1779969600-1779972900@kisciencepark.kisciencepark.hemsida.eu
SUMMARY:KI Science Park’s monthly CEO and Business Leader Lunch
DESCRIPTION:Welcome to KI Science Park’s CEO and Business Leader Lunch!\nJoin us for this networking opportunity that combines lunch with influential minds!   \nAs always\, we focus open discussions round the tables. A light lunch will be served. \nThe CEO and Business Leader Lunch is exclusively for CEOs and Business Leaders of our community. The purpose of the network is to provide a platform for insightful discussions\, idea exchange\, and potential collaborations. It fosters connections and strengthens the network among KI Science Park members. Here we also welcome new companies that joined our community. \nAn invitation is sent to members. \nWe look forward to seeing you there! \n__________________________________________________ \nContact Sara Gunnerås if you would like to know more about the network and how to join.
URL:https://kisciencepark.kisciencepark.hemsida.eu/event/ki-science-parks-monthly-ceo-and-business-leader-lunch-may26-2/
LOCATION:Innomedicum\, KI Science Park AB office\, Nanna Svarts Väg 6a\, floor 4\, Solna\, 171 65\, Sweden
ATTACH;FMTTYPE=image/jpeg:https://kisciencepark.kisciencepark.hemsida.eu/wp-content/uploads/2023/05/VD-lunch-230526.jpg
ORGANIZER;CN="KI Science Park":MAILTO:event@kisciencepark.se
END:VEVENT
END:VCALENDAR