BEGIN:VCALENDAR
VERSION:2.0
PRODID:-//KI Science Park - ECPv6.15.0.1//NONSGML v1.0//EN
CALSCALE:GREGORIAN
METHOD:PUBLISH
X-ORIGINAL-URL:https://kisciencepark.kisciencepark.hemsida.eu
X-WR-CALDESC:Events for KI Science Park
REFRESH-INTERVAL;VALUE=DURATION:PT1H
X-Robots-Tag:noindex
X-PUBLISHED-TTL:PT1H
BEGIN:VTIMEZONE
TZID:Europe/Stockholm
BEGIN:DAYLIGHT
TZOFFSETFROM:+0100
TZOFFSETTO:+0200
TZNAME:CEST
DTSTART:20230326T010000
END:DAYLIGHT
BEGIN:STANDARD
TZOFFSETFROM:+0200
TZOFFSETTO:+0100
TZNAME:CET
DTSTART:20231029T010000
END:STANDARD
END:VTIMEZONE
BEGIN:VEVENT
DTSTART;TZID=Europe/Stockholm:20231009T100000
DTEND;TZID=Europe/Stockholm:20231011T170000
DTSTAMP:20260421T024951
CREATED:20230706T152503Z
LAST-MODIFIED:20230706T152503Z
UID:10000010-1696845600-1697043600@kisciencepark.kisciencepark.hemsida.eu
SUMMARY:Medicinteknikdagarna
DESCRIPTION:Medicinteknikdagarna (MTD) arrangeras 9-11 oktober\, 2023 i Stockholm. Karolinska Universitetssjukhuset/Region Stockholm och Kungliga Tekniska Högskolan har fått äran att stå som värdar. Mötesplatsen kommer att bli BioClinicum som är hopbyggd med Nya Karolinska Solna. BioClinicum är ett nav för preklinisk forskning och är utformad för att öka integrationen mellan forskning\, utbildning och vård.  MTD är en viktig mötesplats för medicinsk teknik som Svensk Medicinteknisk Förening (MTF) arrangerar nu för 20:e gången. \nUnder MTD:s inspirerande dagar erbjuds intressanta plenarföreläsningar\, senaste nytt inom MT-området\, paneldiskussioner\, leverantörs- samt forskningspresentationer med speciellt fokus på tre områden som har hög aktualitet – AI-tillämpningar\, innovation och digitala lösningar. Traditionsenligt presenteras också en industriell utställning! En annan viktig målsättning med MTD är att erbjuda en mötesarena som främjar nätverkande och nationella samarbetsinitiativ för att ytterligare föra det medicintekniska området framåt. \nMTD samlar branschens alla viktiga intressenter\, såsom den medicintekniska ingenjörskåren\, medicintekniska forskare\, företag och experter\, representanter för hälso- och sjukvården\, myndigheter och landets medicintekniska kluster för två gemensamma dagar. \nHälso- och sjukvården i Sverige måste kraftsamla för att ytterligare effektivisera sitt arbete\, och här har bland annat digitalisering och medicintekniska innovationer sin självklara plats som viktiga pusselbitar i den fortsatta utvecklingen. Kom och dela med dig av ditt eget arbete samt inspireras och ta del av andras erfarenhet och utveckling! \nVarmt välkommen!
URL:https://kisciencepark.kisciencepark.hemsida.eu/event/medicinteknikdagarna/
LOCATION:BioClinicum\, Solnavägen 30\, Stockholm\, Sweden
ATTACH;FMTTYPE=image/jpeg:https://kisciencepark.kisciencepark.hemsida.eu/wp-content/uploads/2023/07/medicinteknikdagarna23.jpg
END:VEVENT
END:VCALENDAR