BEGIN:VCALENDAR
VERSION:2.0
PRODID:-//KI Science Park - ECPv6.15.0.1//NONSGML v1.0//EN
CALSCALE:GREGORIAN
METHOD:PUBLISH
X-ORIGINAL-URL:https://kisciencepark.kisciencepark.hemsida.eu
X-WR-CALDESC:Events for KI Science Park
REFRESH-INTERVAL;VALUE=DURATION:PT1H
X-Robots-Tag:noindex
X-PUBLISHED-TTL:PT1H
BEGIN:VTIMEZONE
TZID:Europe/Stockholm
BEGIN:DAYLIGHT
TZOFFSETFROM:+0100
TZOFFSETTO:+0200
TZNAME:CEST
DTSTART:20230326T010000
END:DAYLIGHT
BEGIN:STANDARD
TZOFFSETFROM:+0200
TZOFFSETTO:+0100
TZNAME:CET
DTSTART:20231029T010000
END:STANDARD
BEGIN:DAYLIGHT
TZOFFSETFROM:+0100
TZOFFSETTO:+0200
TZNAME:CEST
DTSTART:20240331T010000
END:DAYLIGHT
BEGIN:STANDARD
TZOFFSETFROM:+0200
TZOFFSETTO:+0100
TZNAME:CET
DTSTART:20241027T010000
END:STANDARD
BEGIN:DAYLIGHT
TZOFFSETFROM:+0100
TZOFFSETTO:+0200
TZNAME:CEST
DTSTART:20250330T010000
END:DAYLIGHT
BEGIN:STANDARD
TZOFFSETFROM:+0200
TZOFFSETTO:+0100
TZNAME:CET
DTSTART:20251026T010000
END:STANDARD
END:VTIMEZONE
BEGIN:VEVENT
DTSTART;TZID=Europe/Stockholm:20251121T090000
DTEND;TZID=Europe/Stockholm:20251121T170000
DTSTAMP:20260421T030003
CREATED:20250624T212426Z
LAST-MODIFIED:20250624T212558Z
UID:10000158-1763715600-1763744400@kisciencepark.kisciencepark.hemsida.eu
SUMMARY:CHaSE – Careers in Health and Science Exposition
DESCRIPTION:CHaSE is Stockholm’s premier career and jobs fair that connects employers within the life science and health sectors with potential employees and provides a platform for students to begin to plan for their post-university careers. \nFirst started in 2014\, it is entirely organized and run by students. CHaSE aims to connect companies from the Life Science industry with highly qualified students interested in the industry. The attending companies range from small start-ups to NGOs and big international corporations \nRead more here and get your company or organization on board by contacting: relations@chasesthlm.se \nAll KI and non-KI affiliated students (BSc\, MSc and PhD)\, postdocs and researchers in Life Science and Health  are welcome to register and attend the event. \nFOR STUDENTS \nCHaSE is the number one career fair for people looking for a career in the Life Science industry. CHaSE aims to connect life science students with companies and students from all backgrounds who are interested in the life science industry. \nFOR COMPANIES \nCHaSE offers companies the unique opportunity to meet students interested in the Life Science industry from some of Europe’s top universities. The venue offers the ability for keynote presentations\, workshops and exhibtion stands
URL:https://kisciencepark.kisciencepark.hemsida.eu/event/chase-2025/
LOCATION:Aula Medica\, Nobels väg 6\, Solna\, 171 65\, Sweden
ATTACH;FMTTYPE=image/png:https://kisciencepark.kisciencepark.hemsida.eu/wp-content/uploads/2023/10/image004-1.png
END:VEVENT
BEGIN:VEVENT
DTSTART;TZID=Europe/Stockholm:20251001T090000
DTEND;TZID=Europe/Stockholm:20251001T170000
DTSTAMP:20260421T030003
CREATED:20250625T141306Z
LAST-MODIFIED:20250625T141306Z
UID:10000159-1759309200-1759338000@kisciencepark.kisciencepark.hemsida.eu
SUMMARY:SciLifeLab Science Summit 2025: Disruptive Technologies for Drugging the Undruggable
DESCRIPTION:Are you ready to explore the cutting-edge for the future of drug discovery? Mark your calendar for the SciLifeLab Science Summit 2025\, an event focusing on novel technologies as drivers to find new modalities for disease intervention and drug innovation for precision medicine. \nThis full-day symposium will bring together leading scientists\, industry experts\, and innovators to discuss the breakthroughs and challenges in addressing previously inaccessible drug targets. Join us at Aula Medica\, Karolinska Institutet\, for a packed program featuring high-impact international presentations\, panel discussions\, and networking opportunities. \nJunior researchers are encouraged to participate with poster presentations – with the opportunity to be selected to give a short talk. \nRegister here! \nRegistration closes September 21.
URL:https://kisciencepark.kisciencepark.hemsida.eu/event/scilifelab-science-summit-2025-disruptive-technologies-for-drugging-the-undruggable/
LOCATION:Aula Medica\, Nobels väg 6\, Solna\, 171 65\, Sweden
ATTACH;FMTTYPE=image/jpeg:https://kisciencepark.kisciencepark.hemsida.eu/wp-content/uploads/2025/06/251001-disruptive-technologies-for-drugging-the-undruggable.jpg
END:VEVENT
BEGIN:VEVENT
DTSTART;TZID=Europe/Stockholm:20250409T081500
DTEND;TZID=Europe/Stockholm:20250409T170000
DTSTAMP:20260421T030003
CREATED:20250402T103117Z
LAST-MODIFIED:20250402T103202Z
UID:10000142-1744186500-1744218000@kisciencepark.kisciencepark.hemsida.eu
SUMMARY:Hjärnfondens (The Swedish Brain Foundation’s) Alzheimer Symposium
DESCRIPTION:Welcome to a symposium about decoding molecular pathways and biomarkers for future therapies for Alzheimer’s disease!\nThe symposium will feature expert-led sessions\, keynote lecture and in-depth discussions on novel biomarkers\, neuroimaging\, and drug development. Network with leading scientists and explore the latest breakthroughs in Alzheimer research. \nRegister here! \nProgram\n\n\n\n\n8:15–9:00\n\nRegistration\n\n\n\n9:15–9:20\n\nIntroduction and welcome to the symposium\nProfessor Cecilia Lundberg\,\nLund University Chair of the Swedish Brain Foundation’s scientific committee\n\n\n9:20–10:05\n\nKeynote lecture: Alzheimer’s disease: From molecular pathways to clinical hallmarks\nProfessor Bart De Strooper\,\nVIB-KU Leuven Center for Brain & Disease Research\, Belgium; UK Dementia Research Institute\, University College London\, UK\n\n\n10:05–11:50\n\nSESSION I: The role of brain vasculature and amyloid fibril polymorphism in Alzheimer’s disease progression\nChairs: Christer Betsholtz (KI) and Per Hammarström (LiU) \n\n10:05–10:25 \nWhat role does the blood-brain barrier play in Alzheimer’s disease?\nProfessor Christer Betsholtz\,\nKarolinska Institute \n\n\n\n\n10:25–10:50\n\nCoffee and mingle\n\n10:50–11:30 \nThe potential for amyloid-beta transmission: What the evidence tells us\nAssociate Professor and Honorary Consultant Neuropathologist\, Zane Jaunmuktane\,\nUniversity College London Hospitals \n\n\n11:30–11:50 \nThe role of fibril polymorphism of experimentally transmissible Aβ-amyloid seeds\nProfessor Per Hammarström\,\nLinköping University \n\n\n\n\n11:50–13:00\n\nLunch\n\n\n\n13:00–14:20\n\nSESSION II: Novel Alzheimer’s biomarkers and mechanistic insights into disease progression\nChairs: Kaj Blennow (GU) and Martin Hallbeck (LiU) \n\n13:00–13:20 \nAβ and tau AD biomarkers in CSF and blood – What do and don’t tell us about brain pathophysiology\nProfessor Kaj Blennow\,\nGothenburg University \n\n\n13:20–13:40 \nTau is tethered within EVs: Insights into the genesis of secreted tau species in human brain\nPhD Steph Fowler\,\nUniversity of Oxford \n\n\n13:40–14:00 \nThe role of autophagy in Alzheimer’s disease – Potential for treatment\nAssociate Professor Per Nilsson\,\nKarolinska Institute \n\n\n14:00–14:20 \nFrom endosomes to vesicles: Cellular pathways driving Alzheimer’s disease\nProfessor Martin Hallbeck\,\nLinköping University \n\n\n\n\n14:20–15:00\n\nCoffee and mingle\n\n\n\n15:00–16:20\n\nSESSION III: Neuroimaging and drug development: Advancing novel treatment approaches for Alzheimer’s disease\nChairs: Stina Syvänen (UU) and Janne Johansson (KI) \n\n15:00–15:40 \nTBD\nProfessor Tuomas Knowles\,\nUniversity of Cambridge \n\n\n15:40–16:00 \nPrevention of amyloid-associated neurotoxicity by the BRICHOS domain – Molecular mechanisms and therapeutic potential\nProfessor Janne Johansson\,\nKarolinska Institute \n\n\n16:00–16:20 \nBispecific antibody formats for neuroimaging and therapeutics\nProfessor Stina Syvänen\,\nUppsala University \n\n\n\n\n16:20–16:40\n\nPanel discussion\nModerator: Professor Cecilia Lundberg\,\nLund University\n\n\n16:40–16:45\n\nConcluding remarks
URL:https://kisciencepark.kisciencepark.hemsida.eu/event/hjarnfondens-the-swedish-brain-foundations-alzheimer-symposium/
LOCATION:Aula Medica\, Nobels väg 6\, Solna\, 171 65\, Sweden
ATTACH;FMTTYPE=image/jpeg:https://kisciencepark.kisciencepark.hemsida.eu/wp-content/uploads/2025/04/250409-hjarnfondens-symposium.jpg
END:VEVENT
BEGIN:VEVENT
DTSTART;TZID=Europe/Stockholm:20241010T130000
DTEND;TZID=Europe/Stockholm:20241010T200000
DTSTAMP:20260421T030003
CREATED:20240716T091549Z
LAST-MODIFIED:20240716T092422Z
UID:10000090-1728565200-1728590400@kisciencepark.kisciencepark.hemsida.eu
SUMMARY:Stockholm-Uppsala Life Science Conference
DESCRIPTION:Save-the-date: Region Stockholm and Region Uppsala is inviting the Life Science Sector to a day with focus on the Stockholm – Uppsala Life Science Cluster.\n\n\nSign up  to connect with a diverse array of professionals and discover how we can work together to drive innovation and growth in life sciences. Whether you’re an academic\, industry professional\, or budding entrepreneur\, this conference provides a unique platform to foster partnerships\, share insights\, and unlock new possibilities for advancing health and well-being.\n \nBy signing up you will receive more information as it becomes available in the autumn. You will also receive a formal invitation to register for the conference.\n  \nMore about the program and registration here! \n 
URL:https://kisciencepark.kisciencepark.hemsida.eu/event/stockholm-uppsala-life-science-conference/
LOCATION:Aula Medica\, Nobels väg 6\, Solna\, 171 65\, Sweden
ATTACH;FMTTYPE=image/jpeg:https://kisciencepark.kisciencepark.hemsida.eu/wp-content/uploads/2024/07/flyer-regional-konferens-24.jpg
END:VEVENT
BEGIN:VEVENT
DTSTART;TZID=Europe/Stockholm:20231124T090000
DTEND;TZID=Europe/Stockholm:20231124T170000
DTSTAMP:20260421T030003
CREATED:20231024T072951Z
LAST-MODIFIED:20231024T073342Z
UID:10000043-1700816400-1700845200@kisciencepark.kisciencepark.hemsida.eu
SUMMARY:CHaSE – Careers in Health and Science Exposition
DESCRIPTION:CHaSE is Stockholm’s premier career and jobs fair that connects employers within the life science and health sectors with potential employees and provides a platform for students to begin to plan for their post-university careers. \nGet your company or organization on board by contacting: relations@chasesthlm.se \nAll KI and non-KI affiliated students (BSc\, MSc and PhD)\, postdocs and researchers in Life Science and Health  are welcome to register and attend the event.
URL:https://kisciencepark.kisciencepark.hemsida.eu/event/chase-careers-in-health-and-science-exposition/
LOCATION:Aula Medica\, Nobels väg 6\, Solna\, 171 65\, Sweden
ATTACH;FMTTYPE=image/png:https://kisciencepark.kisciencepark.hemsida.eu/wp-content/uploads/2023/10/image004-1.png
END:VEVENT
END:VCALENDAR