BEGIN:VCALENDAR
VERSION:2.0
PRODID:-//KI Science Park - ECPv6.15.0.1//NONSGML v1.0//EN
CALSCALE:GREGORIAN
METHOD:PUBLISH
X-WR-CALNAME:KI Science Park
X-ORIGINAL-URL:https://kisciencepark.kisciencepark.hemsida.eu
X-WR-CALDESC:Events for KI Science Park
REFRESH-INTERVAL;VALUE=DURATION:PT1H
X-Robots-Tag:noindex
X-PUBLISHED-TTL:PT1H
BEGIN:VTIMEZONE
TZID:Europe/Stockholm
BEGIN:DAYLIGHT
TZOFFSETFROM:+0100
TZOFFSETTO:+0200
TZNAME:CEST
DTSTART:20250330T010000
END:DAYLIGHT
BEGIN:STANDARD
TZOFFSETFROM:+0200
TZOFFSETTO:+0100
TZNAME:CET
DTSTART:20251026T010000
END:STANDARD
END:VTIMEZONE
BEGIN:VEVENT
DTSTART;TZID=Europe/Stockholm:20251106T170000
DTEND;TZID=Europe/Stockholm:20251106T180000
DTSTAMP:20260421T022636
CREATED:20251023T192124Z
LAST-MODIFIED:20251023T192433Z
UID:10000190-1762448400-1762452000@kisciencepark.kisciencepark.hemsida.eu
SUMMARY:The Cell: Life Science-Bar: Dags att bädda ner sömnpillret?
DESCRIPTION:Inbjudan av: The Cell\, Tekniska museet. \n\nVälkommen till höstens första Life Science-bar på The Cell. \nUnder en insiktsgivande kväll\, i mötet mellan vetenskap och konst\, utforskar vi sömnbrist och vad man kan göra åt det. \n\n\n\nUnder 2024 hämtade mer än 870 000 personer i Sverige ut receptbelagda sömnmedel på apoteket och bland unga har användningen av sömnmedel ökat kraftigt. Detta trots frågetecken kring läkemedlens effektivitet och långtidseffekter. Forskare rekommenderar i stället psykologisk behandling i form av KBT mot insomni som är lika bra på kort sikt och bättre på lång sikt. \nMedverkande\n17.00-17.15  “Konsten\, sömnen och sömnlösheten”\, Jennie Lorisson\, konstvetare och doktorand\, Handelshögskolan\, samt tidigare verksamhetsledare för Sveriges Allmänna Konstförening. \n17.15-17.20 Poesi med Sara Nazari\, en av Sveriges största poeter inom spoken word. Hon har uppträtt bland annat i Melodifestivalen och Musikhjälpen\, SVT. \n17.20-18.00 Panelsamtal om sömn och behandling av sömnproblem: Kerstin Blom\, docent\, Institutionen för klinisk neurovetenskap\, Karolinska Institutet\, Sandra Tamm\, docent\, Institutionen för klinisk neurovetenskap\, Karolinska Institutet\, och Jennie Lorisson\, konstvetare. \nModerator: Cecilia Odlind\, chefredaktör för KI:s populärvetenskapliga magasin Medicinsk Vetenskap och en av programledarna för KI:s populärvetenskapliga podcast Medicinvetarna. \nSeminariet är öppet för allmänheten\, ingen föranmälan behövs. Mat och dryck kommer finnas till försäljning på Urban Deli. \nEventet hålls på svenska.
URL:https://kisciencepark.kisciencepark.hemsida.eu/event/the-cell-life-science-bar-dags-att-badda-ner-somnpillret/
LOCATION:the Cell\, Hagaplan 4
ATTACH;FMTTYPE=image/jpeg:https://kisciencepark.kisciencepark.hemsida.eu/wp-content/uploads/2025/10/241106-the-cell.jpg
END:VEVENT
END:VCALENDAR