BEGIN:VCALENDAR
VERSION:2.0
PRODID:-//KI Science Park - ECPv6.15.0.1//NONSGML v1.0//EN
CALSCALE:GREGORIAN
METHOD:PUBLISH
X-ORIGINAL-URL:https://kisciencepark.kisciencepark.hemsida.eu
X-WR-CALDESC:Events for KI Science Park
REFRESH-INTERVAL;VALUE=DURATION:PT1H
X-Robots-Tag:noindex
X-PUBLISHED-TTL:PT1H
BEGIN:VTIMEZONE
TZID:Europe/Stockholm
BEGIN:DAYLIGHT
TZOFFSETFROM:+0100
TZOFFSETTO:+0200
TZNAME:CEST
DTSTART:20240331T010000
END:DAYLIGHT
BEGIN:STANDARD
TZOFFSETFROM:+0200
TZOFFSETTO:+0100
TZNAME:CET
DTSTART:20241027T010000
END:STANDARD
BEGIN:DAYLIGHT
TZOFFSETFROM:+0100
TZOFFSETTO:+0200
TZNAME:CEST
DTSTART:20250330T010000
END:DAYLIGHT
BEGIN:STANDARD
TZOFFSETFROM:+0200
TZOFFSETTO:+0100
TZNAME:CET
DTSTART:20251026T010000
END:STANDARD
END:VTIMEZONE
BEGIN:VEVENT
DTSTART;TZID=Europe/Stockholm:20251001T090000
DTEND;TZID=Europe/Stockholm:20251001T170000
DTSTAMP:20260420T233514
CREATED:20250625T141306Z
LAST-MODIFIED:20250625T141306Z
UID:10000159-1759309200-1759338000@kisciencepark.kisciencepark.hemsida.eu
SUMMARY:SciLifeLab Science Summit 2025: Disruptive Technologies for Drugging the Undruggable
DESCRIPTION:Are you ready to explore the cutting-edge for the future of drug discovery? Mark your calendar for the SciLifeLab Science Summit 2025\, an event focusing on novel technologies as drivers to find new modalities for disease intervention and drug innovation for precision medicine. \nThis full-day symposium will bring together leading scientists\, industry experts\, and innovators to discuss the breakthroughs and challenges in addressing previously inaccessible drug targets. Join us at Aula Medica\, Karolinska Institutet\, for a packed program featuring high-impact international presentations\, panel discussions\, and networking opportunities. \nJunior researchers are encouraged to participate with poster presentations – with the opportunity to be selected to give a short talk. \nRegister here! \nRegistration closes September 21.
URL:https://kisciencepark.kisciencepark.hemsida.eu/event/scilifelab-science-summit-2025-disruptive-technologies-for-drugging-the-undruggable/
LOCATION:Aula Medica\, Nobels väg 6\, Solna\, 171 65\, Sweden
ATTACH;FMTTYPE=image/jpeg:https://kisciencepark.kisciencepark.hemsida.eu/wp-content/uploads/2025/06/251001-disruptive-technologies-for-drugging-the-undruggable.jpg
END:VEVENT
BEGIN:VEVENT
DTSTART;TZID=Europe/Stockholm:20250306T100000
DTEND;TZID=Europe/Stockholm:20250306T160000
DTSTAMP:20260420T233514
CREATED:20250214T190211Z
LAST-MODIFIED:20250214T190211Z
UID:10000138-1741255200-1741276800@kisciencepark.kisciencepark.hemsida.eu
SUMMARY:SciLifeLab event: Automation of research processes with LLMs and AI
DESCRIPTION:SciLifeLab is thrilled to invite you to the symposium ‘Automation of research processes with LLMs and AI’\n\nThe purpose of the symposium is practical knowledge sharing\, inspiration\, and reflection on the future of scientific processes in life sciences and health research. Academic\, healthcare\, and industry researchers working within the broad life sciences are welcome to attend. \nMore and more AI-based tools are currently being integrated in scientific research processes\, from simple academic text editing tools to automated labs empowered by large language models (LLMs) running experiments and making scientific conclusions. For researchers in life sciences and health\, developments in the AI technologies are important because of the high potential\, large monetary investments\, but also expectations about future breakthroughs. \nThis one-day event offers an opportunity for the researchers to hear about specific examples of incorporating Large Language Models (LLMs) and other recent developments in foundational AI models in research workflows as well as to discuss the future of scientific research processes with this new technology present. \nWe will start the morning with inspirational talks about new advances in research workflow automation. During lunch\, there will be a possibility to network and discuss different perspectives with other attendees. After lunch we plan to have interactive sessions where the audience will have an opportunity to share and discuss visions and expectations\, including spontaneous flash/pop-up talks by the attendees. \nThe talks of the morning session will be livestreamed through Zoom. The rest of the event is on-site in Biomedicum only. \nRead more about the event and program here!\nRegister here!\nParticipation is free of charge on the first-come first-served basis. Refreshments and lunch will be served for the on-site participants. Unfortunately\, we cannot accommodate allergies or dietary preferences for those who register after March 1. If you register to listen to livestreamed talks on Zoom\, you will receive a link on the day of the event. The talks will not be recorded and saved\, only streamed live on the day.
URL:https://kisciencepark.kisciencepark.hemsida.eu/event/scilifelab-event-automation-of-research-processes-with-llms-and-ai/
LOCATION:Biomedicum\, Eva & Georg Klein\,\, Solnavägen 9\, Solna\, Sweden
ATTACH;FMTTYPE=image/jpeg:https://kisciencepark.kisciencepark.hemsida.eu/wp-content/uploads/2025/02/scilifelabsympiosium.jpg
END:VEVENT
BEGIN:VEVENT
DTSTART;TZID=Europe/Stockholm:20240617T140000
DTEND;TZID=Europe/Stockholm:20240617T190000
DTSTAMP:20260420T233514
CREATED:20240516T130603Z
LAST-MODIFIED:20240521T200222Z
UID:10000082-1718632800-1718650800@kisciencepark.kisciencepark.hemsida.eu
SUMMARY:Open House at SciLifeLab at Campus Solna
DESCRIPTION:Welcome to SciLifeLab Campus Solna!\nTake the opportunity to tour some of the SciLifeLab infrastructures hosted at Campus Solna organized by: \n\nChemical Biology & Genome Engineering and Drug Discovery & Development platforms\nGenomics (NGI)\, Cell & Molecular Imaging and Integrated Structural Biology platforms\nSpatial Biology platform\nClinical Genomic and Clinical Proteomics & Immunology platforms\nMetabolomics platform – Exposomics\n\nThis open house is open to everyone interested in learning more about the SciLifeLab Research infrastructures available to life science experts all over Sweden. \n\nRead more and register here!
URL:https://kisciencepark.kisciencepark.hemsida.eu/event/open-house-at-scilifelab-at-campus-solna/
LOCATION:SciLifeLab Campus Solna\, Tomtebodavägen 23 A\, Solna\, 17165\, Sweden
ATTACH;FMTTYPE=image/jpeg:https://kisciencepark.kisciencepark.hemsida.eu/wp-content/uploads/2024/05/flyer-campus-solna-open-house.jpg
END:VEVENT
BEGIN:VEVENT
DTSTART;TZID=Europe/Stockholm:20240306T163000
DTEND;TZID=Europe/Stockholm:20240306T190000
DTSTAMP:20260420T233514
CREATED:20240111T120034Z
LAST-MODIFIED:20240311T082232Z
UID:10000053-1709742600-1709751600@kisciencepark.kisciencepark.hemsida.eu
SUMMARY:KI Science Park Science After Work
DESCRIPTION:Member event  | March is here and time for Science After Work with knowledge sharing and fun after the working day at cozy AWL cafe\, Innomedicum!  \nWe have three special guests this evening: Elisabet Sjöström\, CEO Key2Brain\, Marcin Kierczak\, PhD\, Industry Outreach Coordinator\, NBIS\, SciLifeLab and Sebastian DiLorenzo\, Bioinformatician & Community Coordinator NBIS\, SciLifeLab. \nHear their story of how the startup company Key2Brain worked with the NBIS research infrastructure at SciLifeLab to advance their project of therapeutics that cross the blood-brain barrier and reach target molecules inside the brain. \nRegistrations is closed. \nAbout Key2Brain\nKey2Brain is a startup biotech company committed to developing a novel brain targeting platform technology. \nAbout National Bioinformatics Infrastructure Sweden (NBIS)\nNBIS is a national research infrastructure and constitutes the SciLifeLab Bioinformatics platform and forms the Swedish node in ELIXIR (the European infrastructure for biological information). \nProgram\n16:30 – Doors are open and snacks and beer is on the menu.\n17:00 – 17:05 Welcome by Sara Gunnerås\, KI Science Park\n17:05 – 17:35 Presentation by guest organisation\n17:35 – 18:00 Q&A\n18:00 – 19:00 The bar is open and music is on. \n\nAbout Science After Work\nScience After Work is a networking event  where business and science meet. You will enjoy a presentation by our guest speaker and expand your network over drinks and snacks. The presentation will be in English. \nMaximize the value of this event arranged for knowledge sharing\, by actively participating in the Q&A session. Let’s be curious together! #staycurious #sharingiscaring #community
URL:https://kisciencepark.kisciencepark.hemsida.eu/event/ki-science-park-science-after-work-2403/
LOCATION:Innomedicum\, A Working Lab Cafe  |\, Nanna Svartz Väg 4\, Solna\, 171 65
ATTACH;FMTTYPE=image/jpeg:https://kisciencepark.kisciencepark.hemsida.eu/wp-content/uploads/2024/01/2403-saw-flyer-till-inbjudan-och-kalender.jpg
ORGANIZER;CN="KI Science Park":MAILTO:event@kisciencepark.se
END:VEVENT
END:VCALENDAR