BEGIN:VCALENDAR
VERSION:2.0
PRODID:-//KI Science Park - ECPv6.15.0.1//NONSGML v1.0//EN
CALSCALE:GREGORIAN
METHOD:PUBLISH
X-WR-CALNAME:KI Science Park
X-ORIGINAL-URL:https://kisciencepark.kisciencepark.hemsida.eu
X-WR-CALDESC:Events for KI Science Park
REFRESH-INTERVAL;VALUE=DURATION:PT1H
X-Robots-Tag:noindex
X-PUBLISHED-TTL:PT1H
BEGIN:VTIMEZONE
TZID:Europe/Stockholm
BEGIN:DAYLIGHT
TZOFFSETFROM:+0100
TZOFFSETTO:+0200
TZNAME:CEST
DTSTART:20230326T010000
END:DAYLIGHT
BEGIN:STANDARD
TZOFFSETFROM:+0200
TZOFFSETTO:+0100
TZNAME:CET
DTSTART:20231029T010000
END:STANDARD
END:VTIMEZONE
BEGIN:VEVENT
DTSTART;TZID=Europe/Stockholm:20230615T114500
DTEND;TZID=Europe/Stockholm:20230615T130000
DTSTAMP:20260421T113723
CREATED:20230528T180643Z
LAST-MODIFIED:20230607T120639Z
UID:10000003-1686829500-1686834000@kisciencepark.kisciencepark.hemsida.eu
SUMMARY:KI Science Park Lunch Talks - Hur kan Sverige fortsätta att vara en livskraftig life science-nation?
DESCRIPTION:Välkommen till en serie av lunchsamtal kring de stora frågorna inom life science och hälso- och sjukvård! \nHur stärker vi Sverige som life science-nation – vilka är förutsättningarna och möjligheterna? \nLife science är en av de sektorer som står för den största exporten från Sverige samtidigt som den sysselsätter människor i omkring 3000 företag. Hur kan Sverige fortsätta att vara en livskraftig life science-nation och vilka beslut behöver fattas framgent så att innovationer når patienterna? Hur kan hälso- och sjukvården\, patienterna\, regionerna och företagen bidra till utveckling av branschen? \nDeltagare i samtalet är Petra Noreback\, Statssekreterare hos Socialminister Jakob Forssmed\, Jenni Nordborg Chef Internationella Relationer LIF\, Margareta Haag Ordförande Nätverket mot cancer\, Clara Hellner Forsknings- och Innovationsdirektör\, Region Stockholm. \nVi bjuder på lätt lunch. \nAnmäl dig senast den 9 juni! \nRegistrera dig här!
URL:https://kisciencepark.kisciencepark.hemsida.eu/event/ki-science-park-lunch-talks-hur-starker-vi-sverige-som-life-science-nation-vilka-ar-forutsattningarna-och-mojligheterna/
LOCATION:Bayer office at Campus Solna\, Nobels väg 8\, Solna\, 171 65
ATTACH;FMTTYPE=image/png:https://kisciencepark.kisciencepark.hemsida.eu/wp-content/uploads/2023/05/KSPLTno2-Skarmavbild.png
END:VEVENT
END:VCALENDAR