BEGIN:VCALENDAR
VERSION:2.0
PRODID:-//KI Science Park - ECPv6.15.0.1//NONSGML v1.0//EN
CALSCALE:GREGORIAN
METHOD:PUBLISH
X-WR-CALNAME:KI Science Park
X-ORIGINAL-URL:https://kisciencepark.kisciencepark.hemsida.eu
X-WR-CALDESC:Events for KI Science Park
REFRESH-INTERVAL;VALUE=DURATION:PT1H
X-Robots-Tag:noindex
X-PUBLISHED-TTL:PT1H
BEGIN:VTIMEZONE
TZID:Europe/Stockholm
BEGIN:DAYLIGHT
TZOFFSETFROM:+0100
TZOFFSETTO:+0200
TZNAME:CEST
DTSTART:20230326T010000
END:DAYLIGHT
BEGIN:STANDARD
TZOFFSETFROM:+0200
TZOFFSETTO:+0100
TZNAME:CET
DTSTART:20231029T010000
END:STANDARD
END:VTIMEZONE
BEGIN:VEVENT
DTSTART;TZID=Europe/Stockholm:20230530T120000
DTEND;TZID=Europe/Stockholm:20230530T123000
DTSTAMP:20260421T210551
CREATED:20230529T185229Z
LAST-MODIFIED:20230529T185443Z
UID:10000006-1685448000-1685449800@kisciencepark.kisciencepark.hemsida.eu
SUMMARY:LUNCH & LEARN with DRIVE incubator company Thermaiscan
DESCRIPTION:Welcome to LUNCH & LEARN! Simply bring your lunch to the AWL Café\, listen to an interesting talk and hang out with friends and colleagues from the community – AWL & KI Science Park bring dessert! \nPitch training session with DRIVE incubator company Thermaiscan. A startup combining its own developed AI with already existing smartphone thermal sensors to enable primary care to perform breast cancer pre-screenings\, with Arby Leonian\, COO.\n\n 
URL:https://kisciencepark.kisciencepark.hemsida.eu/event/lunch-learn-with-drive-incubator-company-thermaiscan/
LOCATION:Innomedicum\, A Working Lab Cafe  |\, Nanna Svartz Väg 4\, Solna\, 171 65
ATTACH;FMTTYPE=image/jpeg:https://kisciencepark.kisciencepark.hemsida.eu/wp-content/uploads/2023/05/LL.jpg
ORGANIZER;CN="KI Science Park":MAILTO:event@kisciencepark.se
END:VEVENT
BEGIN:VEVENT
DTSTART;TZID=Europe/Stockholm:20230530T074000
DTEND;TZID=Europe/Stockholm:20230530T090000
DTSTAMP:20260421T210551
CREATED:20230522T201548Z
LAST-MODIFIED:20231103T184159Z
UID:10000002-1685432400-1685437200@kisciencepark.kisciencepark.hemsida.eu
SUMMARY:Business Breakfast
DESCRIPTION:Meet Peter Wolpert\, CEO at Industrifonden\nPeter Wolpert will give us an update of investment trends in life science and share som stories from his previous experience of expanding business into the US market. \nBusiness Breakfasts are monthly networking events spotlighting current topics in Life Science. We’ll meet in the AWL Café at Innomedicum. Breakfast is served from 07:40. The presentation starts at 8:00. Registration open now for members and subscribers. \nRegistration open. Sign up today top secure your spot! \n 
URL:https://kisciencepark.kisciencepark.hemsida.eu/event/business-breakfast/
LOCATION:Innomedicum\, A Working Lab Cafe  |\, Nanna Svartz Väg 4\, Solna\, 171 65
ATTACH;FMTTYPE=image/jpeg:https://kisciencepark.kisciencepark.hemsida.eu/wp-content/uploads/2023/05/Peter-W-BB.jpg
ORGANIZER;CN="KI Science Park":MAILTO:event@kisciencepark.se
END:VEVENT
END:VCALENDAR