BEGIN:VCALENDAR
VERSION:2.0
PRODID:-//KI Science Park - ECPv6.15.0.1//NONSGML v1.0//EN
CALSCALE:GREGORIAN
METHOD:PUBLISH
X-WR-CALNAME:KI Science Park
X-ORIGINAL-URL:https://kisciencepark.kisciencepark.hemsida.eu
X-WR-CALDESC:Events for KI Science Park
REFRESH-INTERVAL;VALUE=DURATION:PT1H
X-Robots-Tag:noindex
X-PUBLISHED-TTL:PT1H
BEGIN:VTIMEZONE
TZID:Europe/Stockholm
BEGIN:DAYLIGHT
TZOFFSETFROM:+0100
TZOFFSETTO:+0200
TZNAME:CEST
DTSTART:20260329T010000
END:DAYLIGHT
BEGIN:STANDARD
TZOFFSETFROM:+0200
TZOFFSETTO:+0100
TZNAME:CET
DTSTART:20261025T010000
END:STANDARD
END:VTIMEZONE
BEGIN:VEVENT
DTSTART;VALUE=DATE:20260201
DTEND;VALUE=DATE:20260202
DTSTAMP:20260420T194155
CREATED:20260106T144402Z
LAST-MODIFIED:20260106T144612Z
UID:10000197-1769904000-1769990399@kisciencepark.kisciencepark.hemsida.eu
SUMMARY:February: Group training at Campus Solna – every Tuesday and Thursday
DESCRIPTION:Invitation by Akademiska Hus: Take the chance to recharge and boost your energy! \nAt Campus Solna\, Akademiska Hus offers free training sessions every week\, led by professional coaches from Urban Tribes. \nThe sessions are open to everyone working och studying on Campus Solna – regardless of fitness level – and aim to bring energy and wellbeing into your day. \nCircuit traning – every Tuesday\nA full-body workout where you rotate through different stations with exercises focusing on strength\, mobility\, and recovery – such as bodyweight training\, resistance bands\, and core exercises. A perfect break in the middle of your day to boost both energy and focus. \nTime: 11.30 AM\nTraining time: 60 minutes\nLocation: the pétanque courts located in the Pelousen area\nContact: johanna.billberg@akademiskahus.se \nYoga sessions – every Thursday\nWhether you are a beginner or experienced in yoga\, you are most welcome. Our classes are designed to make everyone feel comfortable and inspired. Here you will have the opportunity to strengthen your body\, improve your mobility\, and find a moment of calm in the midst of everyday life. Bring: Your own yoga mat. \nTime: 11.00 AM\nTraining time: 60 minutes\nLocation: Liljestrands väg 4\, Fysiologen. 4th floor.\nContact: johanna.billberg@akademiskahus.se \nBy participating\, you consent to Akademiska Hus and Urban Tribes taking photographs during the sessions. If you prefer not to be photographed\, please let us know in advance \n 
URL:https://kisciencepark.kisciencepark.hemsida.eu/event/feb-group-training-at-campus-solna-every-tuesday-and-thursday/
ATTACH;FMTTYPE=image/jpeg:https://kisciencepark.kisciencepark.hemsida.eu/wp-content/uploads/2025/09/ag-aktiv-oct-dec.jpg
END:VEVENT
BEGIN:VEVENT
DTSTART;TZID=Europe/Stockholm:20260206T110000
DTEND;TZID=Europe/Stockholm:20260206T114500
DTSTAMP:20260420T194155
CREATED:20260205T222043Z
LAST-MODIFIED:20260205T224834Z
UID:10000224-1770375600-1770378300@kisciencepark.kisciencepark.hemsida.eu
SUMMARY:Focus Startup: Introduction to Work Environment Management for Startups. What You as an Employer Need to Know?
DESCRIPTION:Building and running a startup involves a fast pace\, rapid decision-making\, and constant development. However\, even in the early stages\, the Work Environment Act applies in full\, and as an employer\, you have responsibility for the work environment regardless of whether your team consists of two people or twenty. \nDuring the webinar\, we will cover\, among other things: \n\n\nAn introduction to the Swedish Work Environment Act \n\n\nWhat systematic work environment management (SAM) means in practice \n\n\nRequirements for documentation\, safety representatives\, and safety committees \n\n\nWhat does Organizational and Social Work Environment (OSA) mean? \n\n\nThe webinar will be hosted by Anna Welinder\, Employment and Labour Law Specialist at Teknikföretagen\, who works to support companies in work environment and employer-related matters. \n\nYou can submit your questions in advance or ask them live during the webinar. Please feel free to email your questions to yvonne.lo-alfredsson@teknikforetagen.se \nREGISTER HERE  \nOrganizers \nThe webinar is organized in collaboration with SISP – Swedish Incubators & Science Parks\, STEP and Teknikföretagen. \nSISP (Swedish Incubators and Science Parks)\, in collaboration with Teknikföretagen (the Association of Swedish Engineering Industries)\, invite you to a webinar where you will receive an introduction to work environment management and guidance on legal requirements and employer responsibilities. \nFor whom? \nStartups\n \nThe webinar is organized in collaboration with SISP – Swedish Incubators & Science Parks\, STEP and Teknikföretagen. \n\nWelcome! \nContact Hanna Wiljebrand for questions regarding content and format (hanna.wiljebrand@sisp.se) \nContact Nadia Liljeroth for questions about registration or practical matters (nadia.liljeroth@sisp.se) \n 
URL:https://kisciencepark.kisciencepark.hemsida.eu/event/introduction-to-work-environment-management-for-startups-what-you-as-an-employer-need-to-know/
LOCATION:Webinar
ATTACH;FMTTYPE=image/jpeg:https://kisciencepark.kisciencepark.hemsida.eu/wp-content/uploads/2026/02/260306-sisp.jpg
END:VEVENT
BEGIN:VEVENT
DTSTART;TZID=Europe/Stockholm:20260210T113000
DTEND;TZID=Europe/Stockholm:20260210T125000
DTSTAMP:20260420T194155
CREATED:20260128T205238Z
LAST-MODIFIED:20260128T205249Z
UID:10000215-1770723000-1770727800@kisciencepark.kisciencepark.hemsida.eu
SUMMARY:Lab Network Lunch
DESCRIPTION:Lab Network Lunch – Practical minds\, shared solutions!\nJoin us for an informal and engaging lunch where lab enthusiasts come together to share experiences\, exchange ideas\, and connect with like-minded peers. Whether you’re a seasoned expert or just passionate about lab work\, this is a great opportunity to expand your network and be part of a supportive community. \nInvitations\, including reminder is sent to previous participants. A light lunch will be served. \nWhether you’re a regular participant or new to the group\, your presence will be greatly valued. \nWe look forward to seeing you there! \n________________________ \nAbout the Lab Network\nA community for employees at our member companies who live and breathe lab life. Whether it’s lab coat logistics or sustainable R&D\, this is where we exchange experiences and explore smarter ways of working – together. \nFor for more information. and how to join contact Sara Gunnerås\, Director KI Science Park or Satya Silcock\, Lab Manager A Working Lab. \nContact info: event@kisciencepark.se \n 
URL:https://kisciencepark.kisciencepark.hemsida.eu/event/lab-network-lunch-feb-2026/
LOCATION:Inoventumlabratoriet\, Scheles Väg 3
ATTACH;FMTTYPE=image/jpeg:https://kisciencepark.kisciencepark.hemsida.eu/wp-content/uploads/2025/09/placeholder-lab-network-calender.jpg
ORGANIZER;CN="KI Science Park":MAILTO:event@kisciencepark.se
END:VEVENT
BEGIN:VEVENT
DTSTART;TZID=Europe/Stockholm:20260217T075000
DTEND;TZID=Europe/Stockholm:20260217T090000
DTSTAMP:20260420T194155
CREATED:20260128T204745Z
LAST-MODIFIED:20260209T152525Z
UID:10000214-1771314600-1771318800@kisciencepark.kisciencepark.hemsida.eu
SUMMARY:Business Breakfast with Peter Åsberg\, CEO Disruptive Pharma
DESCRIPTION:Welcome to KI Science Park Business Breakfast!\nSolving bioavailability with Formulite®  –  The journey from academic discovery to commercialization \nAt this Business Breakfast\, Peter Åsberg\, CEO of Disruptive Pharma and Ph.D. in Biochemical Engineering\, will share the story behind one of Sweden’s most compelling research-driven company journeys. Originating from Professor Maria Strömme’s nanoscience research at Uppsala University\, the work evolved into the proprietary technology platform Formulite®\, designed to address one of the key challenges in oral drug development: limited bioavailability. \nPeter will reflect on the path from scientific discovery to commercialization\, the strategic choices along the way\, and what it takes to navigate product development\, clinical validation\, partnering\, and revenue generation. \nA valuable session for anyone interested in innovation\, scale-up journeys\, and the intersection of academia and industry. \nREGISTER HERE!\nAbout the speaker \nPeter Åsberg\, Ph.D.\, is an experienced life science executive currently serving as CEO of Disruptive Pharma\, where he focuses on translating a differentiated formulation technology into clinically and commercially meaningful medicines. \nPeter holds a Ph.D. in applied biochemistry and physics and combines deep scientific expertise with senior leadership experience from innovative biotech and healthcare companies\, including BioChromix Pharma\, Cadila Pharmaceuticals Sweden and Olink Bioscience. Throughout his career\, he has focused on long-term value creation and patient benefit across the pharmaceutical ecosystem. \nPROGRAM\n7:50 – 8:10 Breakfast is served.\n8:10 – 8:15 Welcome by KI Science Park\n8:15 – 8:45 Presentation by invited guest\n8:45 – 9:00 QA\n9:00 – 9:15 Networking \nWarm welcome! \n——————————– \nAbout Business Breakfast\nBusiness Breakfast is KI Science Park’s  monthly morning meet-up where business leaders share experiences\, lessons\, and inspiration. It’s a chance to reconnect\, broaden your network\, and kick off the day with fresh energy and new ideas. The event is arranged in collaboration with A Working Lab at Innomedicum.
URL:https://kisciencepark.kisciencepark.hemsida.eu/event/business-breakfast-feb-17/
LOCATION:Innomedicum\,  A Working Lab Cafe  |\, Nanna Svarts Väg 4\, Solna\, 17165\, Sweden
ATTACH;FMTTYPE=image/jpeg:https://kisciencepark.kisciencepark.hemsida.eu/wp-content/uploads/2026/01/260217-bb-peter-asberg-ny.jpg
ORGANIZER;CN="KI Science Park":MAILTO:event@kisciencepark.se
END:VEVENT
BEGIN:VEVENT
DTSTART;TZID=Europe/Stockholm:20260217T091500
DTEND;TZID=Europe/Stockholm:20260217T100000
DTSTAMP:20260420T194155
CREATED:20260202T162908Z
LAST-MODIFIED:20260202T195613Z
UID:10000218-1771319700-1771322400@kisciencepark.kisciencepark.hemsida.eu
SUMMARY:Innovation Round Table with Peter Åsberg
DESCRIPTION:Exclusive to DRIVE incubator companies – Innovation Round Table\nFollowing the open Business Breakfast\, the speaker and DRIVE incubator companies are invited to a closed Innovation Round Table. This is an opportunity for in-depth discussion\, knowledge exchange\, and reflection on challenges and opportunities within innovation. \nThis session is Exclusive to DRIVE incubator companies – part of the KI Science Park community offering. \nWarm Welcome! \nCurious about the DRIVE Incubator program? Read more here.
URL:https://kisciencepark.kisciencepark.hemsida.eu/event/innovation-round-table-with-peter-asberg/
LOCATION:Innomedicum\, KI Science Park AB office\, Nanna Svarts Väg 6a\, floor 4\, Solna\, 171 65\, Sweden
ATTACH;FMTTYPE=image/jpeg:https://kisciencepark.kisciencepark.hemsida.eu/wp-content/uploads/2026/02/260217-irt.jpg
ORGANIZER;CN="KI Science Park":MAILTO:event@kisciencepark.se
END:VEVENT
BEGIN:VEVENT
DTSTART;TZID=Europe/Stockholm:20260219T120000
DTEND;TZID=Europe/Stockholm:20260219T125500
DTSTAMP:20260420T194155
CREATED:20260106T211724Z
LAST-MODIFIED:20260106T212239Z
UID:10000204-1771502400-1771505700@kisciencepark.kisciencepark.hemsida.eu
SUMMARY:KI Science Park’s monthly CEO and Business Leader Lunch
DESCRIPTION:Welcome to KI Science Park’s CEO and Business Leader Lunch!\nJoin us for this networking opportunity that combines lunch with influential minds!   \nAs always\, we focus open discussions round the tables. A light lunch will be served. \nThe CEO and Business Leader Lunch is exclusively for CEOs and Business Leaders of our community. The purpose of the network is to provide a platform for insightful discussions\, idea exchange\, and potential collaborations. It fosters connections and strengthens the network among KI Science Park members. Here we also welcome new companies that joined our community. \nAn invitation is sent to members. \nWe look forward to seeing you there! \n__________________________________________________ \nContact Sara Gunnerås if you would like to know more about the network and how to join.
URL:https://kisciencepark.kisciencepark.hemsida.eu/event/ki-science-parks-ceo-and-business-leader-lunch-feb-2026/
LOCATION:Innomedicum\, KI Science Park AB office\, Nanna Svarts Väg 6a\, floor 4\, Solna\, 171 65\, Sweden
ATTACH;FMTTYPE=image/jpeg:https://kisciencepark.kisciencepark.hemsida.eu/wp-content/uploads/2023/05/VD-lunch-230526.jpg
ORGANIZER;CN="KI Science Park":MAILTO:event@kisciencepark.se
END:VEVENT
BEGIN:VEVENT
DTSTART;TZID=Europe/Stockholm:20260220T110000
DTEND;TZID=Europe/Stockholm:20260220T120000
DTSTAMP:20260420T194155
CREATED:20260205T223450Z
LAST-MODIFIED:20260205T223811Z
UID:10000225-1771585200-1771588800@kisciencepark.kisciencepark.hemsida.eu
SUMMARY:Fokus Startup: Hur ska du som arbetsgivare agera vid sjukfrånvaro?
DESCRIPTION:Hur ska du som arbetsgivare agera vid sjukfrånvaro? Vad förväntas av dig under en sjukskrivningsprocess från första sjukanmälan till återgång i arbete? \nVälkommen till ett kostnadsfritt webbinarium där Håkan Larsson\, rådgivare på Teknikföretagen\, ger en praktisk och tydlig genomgång av arbetsgivarens ansvar vid sjukfrånvaro och rehabilitering. \nAtt arbeta strukturerat med sjukfrånvaro och rehabilitering skapar positiva effekter både för medarbetare och bolaget. Under webbinariet får du konkreta exempel\, praktiska råd och vägledning kring hur du kan agera i olika situationer. \nVi går bland annat igenom: \n\n\nVad som räknas som sjukdom och vad innebär en sjukperiod \n\n\nRutiner för sjukanmälan och rätten till sjuklön \n\n\nNär och hur läkarintyg ska begäras \n\n\nRehabiliteringskedjan och arbetsgivarens ansvar \n\n\nArbetsanpassning och plan för återgång i arbete \n\n\nWebbinariet riktar sig till dig som vill ha en övergripande\, men praktiskt användbar förståelse för arbetsgivaransvaret vid sjukfrånvaro och rehabilitering. Du kan skicka in frågor i förväg eller ställa dem live under webbinariet. Mejla gärna dina frågor till yvonne.lo-alfredsson@teknikforetagen.se. \nWebbinariet arrangeras i samarbete mellan SISP – Swedish Incubators & Science Parks\, STEP och Teknikföretagen. \nREGISTER HERE\nVarmt välkommen! \n\nKontakta Hanna Wiljebrand vid frågor kring innehåll och upplägg (hanna.wiljebrand@sisp.se) \nKontakta Nadia Liljeroth vid frågor om anmälningar eller praktiska frågor (nadia.liljeroth@sisp.se)
URL:https://kisciencepark.kisciencepark.hemsida.eu/event/sisp-webinar-260320/
LOCATION:Webinar
ATTACH;FMTTYPE=image/jpeg:https://kisciencepark.kisciencepark.hemsida.eu/wp-content/uploads/2026/02/260320-sisp-1.jpg
END:VEVENT
END:VCALENDAR